BEGIN:VCALENDAR
VERSION:2.0
PRODID:-//Medina Book Shop - ECPv6.15.20//NONSGML v1.0//EN
CALSCALE:GREGORIAN
METHOD:PUBLISH
X-WR-CALNAME:Medina Book Shop
X-ORIGINAL-URL:https://medinabookshop.com
X-WR-CALDESC:Events for Medina Book Shop
REFRESH-INTERVAL;VALUE=DURATION:PT1H
X-Robots-Tag:noindex
X-PUBLISHED-TTL:PT1H
BEGIN:VTIMEZONE
TZID:Europe/London
BEGIN:DAYLIGHT
TZOFFSETFROM:+0000
TZOFFSETTO:+0100
TZNAME:BST
DTSTART:20250330T010000
END:DAYLIGHT
BEGIN:STANDARD
TZOFFSETFROM:+0100
TZOFFSETTO:+0000
TZNAME:GMT
DTSTART:20251026T010000
END:STANDARD
BEGIN:DAYLIGHT
TZOFFSETFROM:+0000
TZOFFSETTO:+0100
TZNAME:BST
DTSTART:20260329T010000
END:DAYLIGHT
BEGIN:STANDARD
TZOFFSETFROM:+0100
TZOFFSETTO:+0000
TZNAME:GMT
DTSTART:20261025T010000
END:STANDARD
BEGIN:DAYLIGHT
TZOFFSETFROM:+0000
TZOFFSETTO:+0100
TZNAME:BST
DTSTART:20270328T010000
END:DAYLIGHT
BEGIN:STANDARD
TZOFFSETFROM:+0100
TZOFFSETTO:+0000
TZNAME:GMT
DTSTART:20271031T010000
END:STANDARD
END:VTIMEZONE
BEGIN:VEVENT
DTSTART;TZID=Europe/London:20260103T190000
DTEND;TZID=Europe/London:20260103T210000
DTSTAMP:20260424T154047
CREATED:20251207T161338Z
LAST-MODIFIED:20251207T183236Z
UID:10305-1767466800-1767474000@medinabookshop.com
SUMMARY:An Evening Of Stories And Songs With JC Carroll Of Legendary Punk Group The Members
DESCRIPTION:Quitting his job as a bank clerk to become a member of the\, erm\, Members\, co-authoring their early hits Solitary Confinement and Sound Of The Suburbs\, JC’s career has followed a remarkable trajectory. As well as a life in music working with legends such as Graham Parker\, Johnny Thunders and film composer Michael Kamen\, he also set up the iconic London boutique ‘The Dispensary’ selling his own designs and becoming a gathering place for the early acid house scene. Described by Ian Hislop as ‘the TS Eliot of Punk’ JC now tours and records regularly as frontman of the Members and has recently published his brilliant autobiography ‘(Still) Annoying The Neighbours’.\nCome and join us as JC holds court with a mixture of chat\, readings and song followed by an audience Q&A.
URL:https://medinabookshop.com/event/an-evening-of-stories-and-songs-with-jc-carroll-of-legendary-punk-group-the-members
LOCATION:Medina Bookshop\, 50 High Street\, Cowes\, Isle of Wight\, PO31 7RR\, United Kingdom
CATEGORIES:Author talk,Music
ATTACH;FMTTYPE=image/jpeg:https://medinabookshop.com/wp-content/uploads/2025/12/JC-Carroll-poster-1-scaled.jpg
ORGANIZER;CN="Paul Armfield":MAILTO:paul@medinapublishing.com
END:VEVENT
END:VCALENDAR