BEGIN:VCALENDAR
VERSION:2.0
PRODID:-//Medina Book Shop - ECPv6.15.20//NONSGML v1.0//EN
CALSCALE:GREGORIAN
METHOD:PUBLISH
X-WR-CALNAME:Medina Book Shop
X-ORIGINAL-URL:https://medinabookshop.com
X-WR-CALDESC:Events for Medina Book Shop
REFRESH-INTERVAL;VALUE=DURATION:PT1H
X-Robots-Tag:noindex
X-PUBLISHED-TTL:PT1H
BEGIN:VTIMEZONE
TZID:Europe/London
BEGIN:DAYLIGHT
TZOFFSETFROM:+0000
TZOFFSETTO:+0100
TZNAME:BST
DTSTART:20230326T010000
END:DAYLIGHT
BEGIN:STANDARD
TZOFFSETFROM:+0100
TZOFFSETTO:+0000
TZNAME:GMT
DTSTART:20231029T010000
END:STANDARD
BEGIN:DAYLIGHT
TZOFFSETFROM:+0000
TZOFFSETTO:+0100
TZNAME:BST
DTSTART:20240331T010000
END:DAYLIGHT
BEGIN:STANDARD
TZOFFSETFROM:+0100
TZOFFSETTO:+0000
TZNAME:GMT
DTSTART:20241027T010000
END:STANDARD
BEGIN:DAYLIGHT
TZOFFSETFROM:+0000
TZOFFSETTO:+0100
TZNAME:BST
DTSTART:20250330T010000
END:DAYLIGHT
BEGIN:STANDARD
TZOFFSETFROM:+0100
TZOFFSETTO:+0000
TZNAME:GMT
DTSTART:20251026T010000
END:STANDARD
END:VTIMEZONE
BEGIN:VEVENT
DTSTART;TZID=Europe/London:20240725T190000
DTEND;TZID=Europe/London:20240725T210000
DTSTAMP:20260424T093727
CREATED:20240321T161421Z
LAST-MODIFIED:20240713T112626Z
UID:8128-1721934000-1721941200@medinabookshop.com
SUMMARY:The Bookshop Band (BYOB) SOLD OUT
DESCRIPTION:The award winning Bookshop Band came to life as an artistic collaboration with their local bookshop  Mr B’s Emporium of Reading Delights in 2010. They write and perform songs inspired by books and  released 13 book-inspired albums sharing a stage with over 150 authors\, including Philip Pullman\,  Margaret Atwood and Robert Macfarlane. This summer they will be releasing their 14th studio  album EMERGE\, RETURN produced by and featuring Pete Townshend\, supported with a full UK tour.   \n“I am enchanted\, such variation and delicacy… such latent power\, really great work. It  reminded me of my days listening to Sandy Denny and Fairport [Convention] and The  Incredible String Band… – a great discovery and inspiration.” Pete Townshend  \nBetween them Ben Please and Beth Porter (Lost Wordds Spell Songs) bring the books to the stage  along with a multitude of instruments\, including cello\, harmonium\, glockenspiel\, guitars and ukuleles  which\, along with their distinct voices\, create a cinematic sound that draws the audience right in to  a highly intimate performance\, at once touching and mesmerizing\, heart wrenching and funny. No  previous knowledge of the books is required as the band guide the audience through the stories  behind each song’s inspiration. They are equally at stage on a festival main stage as they are in a  bookshop\, having toured the UK\, Europe and North America many times. Their work has been recognised  with nominations from the Ivor Novello Awards\, the Oscars and BAFTA’s.
URL:https://medinabookshop.com/event/the-bookshop-band-byob
LOCATION:Medina Bookshop\, 50 High Street\, Cowes\, Isle of Wight\, PO31 7RR\, United Kingdom
CATEGORIES:Music
ATTACH;FMTTYPE=image/jpeg:https://medinabookshop.com/wp-content/uploads/2024/03/Bookshop-band-jpeg-scaled.jpg
ORGANIZER;CN="Paul Armfield":MAILTO:paul@medinapublishing.com
END:VEVENT
END:VCALENDAR