BEGIN:VCALENDAR
VERSION:2.0
PRODID:-//Medina Book Shop - ECPv6.15.20//NONSGML v1.0//EN
CALSCALE:GREGORIAN
METHOD:PUBLISH
X-ORIGINAL-URL:https://medinabookshop.com
X-WR-CALDESC:Events for Medina Book Shop
REFRESH-INTERVAL;VALUE=DURATION:PT1H
X-Robots-Tag:noindex
X-PUBLISHED-TTL:PT1H
BEGIN:VTIMEZONE
TZID:Europe/London
BEGIN:DAYLIGHT
TZOFFSETFROM:+0000
TZOFFSETTO:+0100
TZNAME:BST
DTSTART:20230326T010000
END:DAYLIGHT
BEGIN:STANDARD
TZOFFSETFROM:+0100
TZOFFSETTO:+0000
TZNAME:GMT
DTSTART:20231029T010000
END:STANDARD
BEGIN:DAYLIGHT
TZOFFSETFROM:+0000
TZOFFSETTO:+0100
TZNAME:BST
DTSTART:20240331T010000
END:DAYLIGHT
BEGIN:STANDARD
TZOFFSETFROM:+0100
TZOFFSETTO:+0000
TZNAME:GMT
DTSTART:20241027T010000
END:STANDARD
BEGIN:DAYLIGHT
TZOFFSETFROM:+0000
TZOFFSETTO:+0100
TZNAME:BST
DTSTART:20250330T010000
END:DAYLIGHT
BEGIN:STANDARD
TZOFFSETFROM:+0100
TZOFFSETTO:+0000
TZNAME:GMT
DTSTART:20251026T010000
END:STANDARD
END:VTIMEZONE
BEGIN:VEVENT
DTSTART;TZID=Europe/London:20240921T190000
DTEND;TZID=Europe/London:20240921T210000
DTSTAMP:20260424T123549
CREATED:20240330T133724Z
LAST-MODIFIED:20240330T142409Z
UID:8203-1726945200-1726952400@medinabookshop.com
SUMMARY:JOHN BLEK (BYOB)
DESCRIPTION:Cork-based songwriter/musician John Blek is clearly a creative multihyphenate kind of guy. For the past 10 years\, he has steered a steady course from one classy music style to another\, be it the folksy ruminations of his debut\, Leave Your Love at the Door\, or the alt.country tunes of Borders (with his occasional band\, The Rats). \nBlek’s latest album swaps a spry sparseness for the musical equivalent of luxury. Recorded a year ago\, the album’s 10 tracks are textbook examples of how to imbue songs with elegance without losing sight of the often strong-minded intent that inspired them in the first place. \nThe underlying music themes for Until the Rivers Run Dry\, Blek writes in the PR blurb\, brim with “Paul McCartney moments and Scott Walker swagger”\, and while these influences are imperceptibly filtered throughout\, alongside hints of classic pop songs by other notable artists\, the most obvious reference points belong to Blek’s casual yet singular artistic grace. \nIndeed\, listening to gems of songs such as Once in a While\, Restless Sea\, Raven’s Cry\, Lyric & Air\, Come Undone\, the sublime closing track\, Floating Aimlessly\, and the rest (most of which feature featherlight strings by Colm Mac Con Iomaire and backing/co-vocals by Cathy Davey) you might wonder why on earth Blek remains one of Ireland’s best-kept secrets.
URL:https://medinabookshop.com/event/john-blek-byob
LOCATION:Medina Bookshop\, 50 High Street\, Cowes\, Isle of Wight\, PO31 7RR\, United Kingdom
CATEGORIES:Music
ATTACH;FMTTYPE=image/jpeg:https://medinabookshop.com/wp-content/uploads/2024/03/John-Blek-Poster-scaled.jpg
ORGANIZER;CN="Paul Armfield":MAILTO:paul@medinapublishing.com
END:VEVENT
END:VCALENDAR